BEGIN:VCALENDAR
VERSION:2.0
PRODID:-//Las Vegas Hawaiian Civic Club - ECPv6.15.20//NONSGML v1.0//EN
CALSCALE:GREGORIAN
METHOD:PUBLISH
X-ORIGINAL-URL:https://www.lasvegashawaiiancivicclub.net
X-WR-CALDESC:Events for Las Vegas Hawaiian Civic Club
REFRESH-INTERVAL;VALUE=DURATION:PT1H
X-Robots-Tag:noindex
X-PUBLISHED-TTL:PT1H
BEGIN:VTIMEZONE
TZID:America/Los_Angeles
BEGIN:DAYLIGHT
TZOFFSETFROM:-0800
TZOFFSETTO:-0700
TZNAME:PDT
DTSTART:20250309T100000
END:DAYLIGHT
BEGIN:STANDARD
TZOFFSETFROM:-0700
TZOFFSETTO:-0800
TZNAME:PST
DTSTART:20251102T090000
END:STANDARD
BEGIN:DAYLIGHT
TZOFFSETFROM:-0800
TZOFFSETTO:-0700
TZNAME:PDT
DTSTART:20260308T100000
END:DAYLIGHT
BEGIN:STANDARD
TZOFFSETFROM:-0700
TZOFFSETTO:-0800
TZNAME:PST
DTSTART:20261101T090000
END:STANDARD
BEGIN:DAYLIGHT
TZOFFSETFROM:-0800
TZOFFSETTO:-0700
TZNAME:PDT
DTSTART:20270314T100000
END:DAYLIGHT
BEGIN:STANDARD
TZOFFSETFROM:-0700
TZOFFSETTO:-0800
TZNAME:PST
DTSTART:20271107T090000
END:STANDARD
END:VTIMEZONE
BEGIN:VEVENT
DTSTART;TZID=America/Los_Angeles:20260322T150000
DTEND;TZID=America/Los_Angeles:20260322T173000
DTSTAMP:20260419T141107
CREATED:20260131T200324Z
LAST-MODIFIED:20260131T200539Z
UID:9153-1774191600-1774200600@www.lasvegashawaiiancivicclub.net
SUMMARY:Henderson Silver Knights Scholarship Fund Raiser Game (Open for ticket link)
DESCRIPTION:Las Vegas Hawaiian Civic Club 3-22 – Henderson Silver Knights 2526
URL:https://www.lasvegashawaiiancivicclub.net/events/henderson-silver-knights-scholarship-fund-raiser-game/
LOCATION:Lee’s Family Forum\, 200 S Green Valley Pkwy\, Henderson\, NV\, 89012\, United States
END:VEVENT
END:VCALENDAR