BEGIN:VCALENDAR
VERSION:2.0
PRODID:-//Las Vegas Hawaiian Civic Club - ECPv6.15.20//NONSGML v1.0//EN
CALSCALE:GREGORIAN
METHOD:PUBLISH
X-ORIGINAL-URL:https://www.lasvegashawaiiancivicclub.net
X-WR-CALDESC:Events for Las Vegas Hawaiian Civic Club
REFRESH-INTERVAL;VALUE=DURATION:PT1H
X-Robots-Tag:noindex
X-PUBLISHED-TTL:PT1H
BEGIN:VTIMEZONE
TZID:America/Los_Angeles
BEGIN:DAYLIGHT
TZOFFSETFROM:-0800
TZOFFSETTO:-0700
TZNAME:PDT
DTSTART:20250309T100000
END:DAYLIGHT
BEGIN:STANDARD
TZOFFSETFROM:-0700
TZOFFSETTO:-0800
TZNAME:PST
DTSTART:20251102T090000
END:STANDARD
BEGIN:DAYLIGHT
TZOFFSETFROM:-0800
TZOFFSETTO:-0700
TZNAME:PDT
DTSTART:20260308T100000
END:DAYLIGHT
BEGIN:STANDARD
TZOFFSETFROM:-0700
TZOFFSETTO:-0800
TZNAME:PST
DTSTART:20261101T090000
END:STANDARD
BEGIN:DAYLIGHT
TZOFFSETFROM:-0800
TZOFFSETTO:-0700
TZNAME:PDT
DTSTART:20270314T100000
END:DAYLIGHT
BEGIN:STANDARD
TZOFFSETFROM:-0700
TZOFFSETTO:-0800
TZNAME:PST
DTSTART:20271107T090000
END:STANDARD
END:VTIMEZONE
BEGIN:VEVENT
DTSTART;TZID=America/Los_Angeles:20260507T180000
DTEND;TZID=America/Los_Angeles:20260507T220000
DTSTAMP:20260419T135555
CREATED:20260131T200836Z
LAST-MODIFIED:20260405T230948Z
UID:9159-1778176800-1778191200@www.lasvegashawaiiancivicclub.net
SUMMARY:Las Vegas Aviators 'Ohana Night Scholarship Fund Raiser Game
DESCRIPTION:Gates Open at 5:30pm – Halawa Music and Hula to be presented outside the stadium on The Plaza beginning 5pm. \nLimited edition ‘Ohana Night Jersey for sale only in the Merchandise short — First Come\, First Served! \nThere will also be a game night baseball hat for sale.
URL:https://www.lasvegashawaiiancivicclub.net/events/las-vegas-aviators-ohana-night-scholarship-fund-raiser-game/
LOCATION:Las Vegas Ballpark\, 1650 South Pavilion Center Drive\, Las Vegas\, NV\, 89135\, United States
END:VEVENT
END:VCALENDAR