BEGIN:VCALENDAR
VERSION:2.0
PRODID:-//Las Vegas Hawaiian Civic Club - ECPv6.15.20//NONSGML v1.0//EN
CALSCALE:GREGORIAN
METHOD:PUBLISH
X-WR-CALNAME:Las Vegas Hawaiian Civic Club
X-ORIGINAL-URL:https://www.lasvegashawaiiancivicclub.net
X-WR-CALDESC:Events for Las Vegas Hawaiian Civic Club
REFRESH-INTERVAL;VALUE=DURATION:PT1H
X-Robots-Tag:noindex
X-PUBLISHED-TTL:PT1H
BEGIN:VTIMEZONE
TZID:America/Los_Angeles
BEGIN:DAYLIGHT
TZOFFSETFROM:-0800
TZOFFSETTO:-0700
TZNAME:PDT
DTSTART:20250309T100000
END:DAYLIGHT
BEGIN:STANDARD
TZOFFSETFROM:-0700
TZOFFSETTO:-0800
TZNAME:PST
DTSTART:20251102T090000
END:STANDARD
BEGIN:DAYLIGHT
TZOFFSETFROM:-0800
TZOFFSETTO:-0700
TZNAME:PDT
DTSTART:20260308T100000
END:DAYLIGHT
BEGIN:STANDARD
TZOFFSETFROM:-0700
TZOFFSETTO:-0800
TZNAME:PST
DTSTART:20261101T090000
END:STANDARD
BEGIN:DAYLIGHT
TZOFFSETFROM:-0800
TZOFFSETTO:-0700
TZNAME:PDT
DTSTART:20270314T100000
END:DAYLIGHT
BEGIN:STANDARD
TZOFFSETFROM:-0700
TZOFFSETTO:-0800
TZNAME:PST
DTSTART:20271107T090000
END:STANDARD
END:VTIMEZONE
BEGIN:VEVENT
DTSTART;TZID=America/Los_Angeles:20260519T190000
DTEND;TZID=America/Los_Angeles:20260519T203000
DTSTAMP:20260419T135043
CREATED:20260405T231848Z
LAST-MODIFIED:20260405T232406Z
UID:9420-1779217200-1779222600@www.lasvegashawaiiancivicclub.net
SUMMARY:General Membership Meeting (Hybrid)
DESCRIPTION:In person Information: Paina Potluck for members to bring food to share begins at 6:15pm \nZoom attendees: link to go out 1 week prior\, please log in no later than 6:50pm so we can start the meeting on time at 7pm
URL:https://www.lasvegashawaiiancivicclub.net/events/general-membership-meeting-hybrid-10/
LOCATION:TBD
END:VEVENT
END:VCALENDAR