BEGIN:VCALENDAR
VERSION:2.0
PRODID:-//Las Vegas Hawaiian Civic Club - ECPv6.15.20//NONSGML v1.0//EN
CALSCALE:GREGORIAN
METHOD:PUBLISH
X-WR-CALNAME:Las Vegas Hawaiian Civic Club
X-ORIGINAL-URL:https://www.lasvegashawaiiancivicclub.net
X-WR-CALDESC:Events for Las Vegas Hawaiian Civic Club
REFRESH-INTERVAL;VALUE=DURATION:PT1H
X-Robots-Tag:noindex
X-PUBLISHED-TTL:PT1H
BEGIN:VTIMEZONE
TZID:America/Los_Angeles
BEGIN:DAYLIGHT
TZOFFSETFROM:-0800
TZOFFSETTO:-0700
TZNAME:PDT
DTSTART:20250309T100000
END:DAYLIGHT
BEGIN:STANDARD
TZOFFSETFROM:-0700
TZOFFSETTO:-0800
TZNAME:PST
DTSTART:20251102T090000
END:STANDARD
BEGIN:DAYLIGHT
TZOFFSETFROM:-0800
TZOFFSETTO:-0700
TZNAME:PDT
DTSTART:20260308T100000
END:DAYLIGHT
BEGIN:STANDARD
TZOFFSETFROM:-0700
TZOFFSETTO:-0800
TZNAME:PST
DTSTART:20261101T090000
END:STANDARD
BEGIN:DAYLIGHT
TZOFFSETFROM:-0800
TZOFFSETTO:-0700
TZNAME:PDT
DTSTART:20270314T100000
END:DAYLIGHT
BEGIN:STANDARD
TZOFFSETFROM:-0700
TZOFFSETTO:-0800
TZNAME:PST
DTSTART:20271107T090000
END:STANDARD
END:VTIMEZONE
BEGIN:VEVENT
DTSTART;VALUE=DATE:20260619
DTEND;VALUE=DATE:20260620
DTSTAMP:20260419T153432
CREATED:20260405T232945Z
LAST-MODIFIED:20260405T232945Z
UID:9434-1781827200-1781913599@www.lasvegashawaiiancivicclub.net
SUMMARY:Juneteenth
DESCRIPTION:
URL:https://www.lasvegashawaiiancivicclub.net/events/juneteenth/
END:VEVENT
BEGIN:VEVENT
DTSTART;TZID=America/Los_Angeles:20260619T073000
DTEND;TZID=America/Los_Angeles:20260619T153000
DTSTAMP:20260419T153432
CREATED:20260405T232904Z
LAST-MODIFIED:20260405T232904Z
UID:9431-1781854200-1781883000@www.lasvegashawaiiancivicclub.net
SUMMARY:2026 Prince Kuhio Kalaniana'ole Scholarship Golf Tournament
DESCRIPTION:
URL:https://www.lasvegashawaiiancivicclub.net/events/2026-prince-kuhio-kalanianaole-scholarship-golf-tournament/
LOCATION:Revere Golf Club\, 2600 Hampton Road\, Henderson\, NV\, 89052\, United States
END:VEVENT
END:VCALENDAR