BEGIN:VCALENDAR
VERSION:2.0
PRODID:-//Las Vegas Hawaiian Civic Club - ECPv6.15.20//NONSGML v1.0//EN
CALSCALE:GREGORIAN
METHOD:PUBLISH
X-WR-CALNAME:Las Vegas Hawaiian Civic Club
X-ORIGINAL-URL:https://www.lasvegashawaiiancivicclub.net
X-WR-CALDESC:Events for Las Vegas Hawaiian Civic Club
REFRESH-INTERVAL;VALUE=DURATION:PT1H
X-Robots-Tag:noindex
X-PUBLISHED-TTL:PT1H
BEGIN:VTIMEZONE
TZID:America/Los_Angeles
BEGIN:DAYLIGHT
TZOFFSETFROM:-0800
TZOFFSETTO:-0700
TZNAME:PDT
DTSTART:20240310T100000
END:DAYLIGHT
BEGIN:STANDARD
TZOFFSETFROM:-0700
TZOFFSETTO:-0800
TZNAME:PST
DTSTART:20241103T090000
END:STANDARD
BEGIN:DAYLIGHT
TZOFFSETFROM:-0800
TZOFFSETTO:-0700
TZNAME:PDT
DTSTART:20250309T100000
END:DAYLIGHT
BEGIN:STANDARD
TZOFFSETFROM:-0700
TZOFFSETTO:-0800
TZNAME:PST
DTSTART:20251102T090000
END:STANDARD
BEGIN:DAYLIGHT
TZOFFSETFROM:-0800
TZOFFSETTO:-0700
TZNAME:PDT
DTSTART:20260308T100000
END:DAYLIGHT
BEGIN:STANDARD
TZOFFSETFROM:-0700
TZOFFSETTO:-0800
TZNAME:PST
DTSTART:20261101T090000
END:STANDARD
END:VTIMEZONE
BEGIN:VEVENT
DTSTART;VALUE=DATE:20250704
DTEND;VALUE=DATE:20250705
DTSTAMP:20260419T155008
CREATED:20250504T211952Z
LAST-MODIFIED:20250504T211952Z
UID:8529-1751587200-1751673599@www.lasvegashawaiiancivicclub.net
SUMMARY:U.S. Independence Day
DESCRIPTION:
URL:https://www.lasvegashawaiiancivicclub.net/events/u-s-independence-day/
END:VEVENT
BEGIN:VEVENT
DTSTART;TZID=America/Los_Angeles:20250710T113000
DTEND;TZID=America/Los_Angeles:20250710T133000
DTSTAMP:20260419T155008
CREATED:20250719T230411Z
LAST-MODIFIED:20250719T230411Z
UID:8672-1752147000-1752154200@www.lasvegashawaiiancivicclub.net
SUMMARY:Papa Ola Lokahi He Alo e He Alo (Listening Session #1)
DESCRIPTION:
URL:https://www.lasvegashawaiiancivicclub.net/events/papa-ola-lokahi-he-alo-e-he-alo-listening-session-1/
END:VEVENT
BEGIN:VEVENT
DTSTART;TZID=America/Los_Angeles:20250711T040000
DTEND;TZID=America/Los_Angeles:20250711T180000
DTSTAMP:20260419T155008
CREATED:20250719T230450Z
LAST-MODIFIED:20250719T230510Z
UID:8674-1752206400-1752256800@www.lasvegashawaiiancivicclub.net
SUMMARY:Papa Ola Lokahi He Alo e He Alo (Listening Session #2)
DESCRIPTION:
URL:https://www.lasvegashawaiiancivicclub.net/events/papa-ola-lokahi-he-alo-e-he-alo-listening-session-2/
END:VEVENT
BEGIN:VEVENT
DTSTART;TZID=America/Los_Angeles:20250711T183000
DTEND;TZID=America/Los_Angeles:20250711T203000
DTSTAMP:20260419T155008
CREATED:20250719T230544Z
LAST-MODIFIED:20250719T230544Z
UID:8676-1752258600-1752265800@www.lasvegashawaiiancivicclub.net
SUMMARY:Papa Ola Lokahi He Alo e He Alo (Listening Session #3)
DESCRIPTION:
URL:https://www.lasvegashawaiiancivicclub.net/events/papa-ola-lokahi-he-alo-e-he-alo-listening-session-3/
END:VEVENT
BEGIN:VEVENT
DTSTART;TZID=America/Los_Angeles:20250714T190000
DTEND;TZID=America/Los_Angeles:20250714T203000
DTSTAMP:20260419T155008
CREATED:20250504T211654Z
LAST-MODIFIED:20250504T211654Z
UID:8523-1752519600-1752525000@www.lasvegashawaiiancivicclub.net
SUMMARY:Board Meeting (Virtual)
DESCRIPTION:
URL:https://www.lasvegashawaiiancivicclub.net/events/board-meeting-virtual-2/
END:VEVENT
BEGIN:VEVENT
DTSTART;TZID=America/Los_Angeles:20250715T090000
DTEND;TZID=America/Los_Angeles:20250715T130000
DTSTAMP:20260419T155008
CREATED:20250716T021908Z
LAST-MODIFIED:20250719T230253Z
UID:8416-1752570000-1752584400@www.lasvegashawaiiancivicclub.net
SUMMARY:Vegas Events & More Health Event
DESCRIPTION:
URL:https://www.lasvegashawaiiancivicclub.net/events/vegas-events-more-health-event/
LOCATION:Suncoast Hotel\, 9090 Alta Drive\, Las Vegas\, NV\, 89145\, United States
END:VEVENT
BEGIN:VEVENT
DTSTART;TZID=America/Los_Angeles:20250721T190000
DTEND;TZID=America/Los_Angeles:20250721T203000
DTSTAMP:20260419T155008
CREATED:20250504T211828Z
LAST-MODIFIED:20250719T231430Z
UID:8525-1753124400-1753129800@www.lasvegashawaiiancivicclub.net
SUMMARY:General Membership Meeting (Hybrid)
DESCRIPTION:Hybrid – 385 Pilot Road\, Zoom link emailed to Membership. \nPaina Potluck runs 6:15-7pm for in person attendees
URL:https://www.lasvegashawaiiancivicclub.net/events/membership-meeting-hybrid/
END:VEVENT
END:VCALENDAR