BEGIN:VCALENDAR
VERSION:2.0
PRODID:-//Las Vegas Hawaiian Civic Club - ECPv6.15.20//NONSGML v1.0//EN
CALSCALE:GREGORIAN
METHOD:PUBLISH
X-WR-CALNAME:Las Vegas Hawaiian Civic Club
X-ORIGINAL-URL:https://www.lasvegashawaiiancivicclub.net
X-WR-CALDESC:Events for Las Vegas Hawaiian Civic Club
REFRESH-INTERVAL;VALUE=DURATION:PT1H
X-Robots-Tag:noindex
X-PUBLISHED-TTL:PT1H
BEGIN:VTIMEZONE
TZID:America/Los_Angeles
BEGIN:DAYLIGHT
TZOFFSETFROM:-0800
TZOFFSETTO:-0700
TZNAME:PDT
DTSTART:20240310T100000
END:DAYLIGHT
BEGIN:STANDARD
TZOFFSETFROM:-0700
TZOFFSETTO:-0800
TZNAME:PST
DTSTART:20241103T090000
END:STANDARD
BEGIN:DAYLIGHT
TZOFFSETFROM:-0800
TZOFFSETTO:-0700
TZNAME:PDT
DTSTART:20250309T100000
END:DAYLIGHT
BEGIN:STANDARD
TZOFFSETFROM:-0700
TZOFFSETTO:-0800
TZNAME:PST
DTSTART:20251102T090000
END:STANDARD
BEGIN:DAYLIGHT
TZOFFSETFROM:-0800
TZOFFSETTO:-0700
TZNAME:PDT
DTSTART:20260308T100000
END:DAYLIGHT
BEGIN:STANDARD
TZOFFSETFROM:-0700
TZOFFSETTO:-0800
TZNAME:PST
DTSTART:20261101T090000
END:STANDARD
END:VTIMEZONE
BEGIN:VEVENT
DTSTART;VALUE=DATE:20250901
DTEND;VALUE=DATE:20250902
DTSTAMP:20260419T074834
CREATED:20250504T212210Z
LAST-MODIFIED:20250719T230758Z
UID:8537-1756684800-1756771199@www.lasvegashawaiiancivicclub.net
SUMMARY:Labor Day
DESCRIPTION:
URL:https://www.lasvegashawaiiancivicclub.net/events/labor-day/
END:VEVENT
BEGIN:VEVENT
DTSTART;TZID=America/Los_Angeles:20250908T190000
DTEND;TZID=America/Los_Angeles:20250908T203000
DTSTAMP:20260419T074834
CREATED:20250826T055350Z
LAST-MODIFIED:20250826T055350Z
UID:8741-1757358000-1757363400@www.lasvegashawaiiancivicclub.net
SUMMARY:Board Meeting (Virtual)
DESCRIPTION:
URL:https://www.lasvegashawaiiancivicclub.net/events/board-meeting-virtual-6/
END:VEVENT
BEGIN:VEVENT
DTSTART;TZID=America/Los_Angeles:20250913T100000
DTEND;TZID=America/Los_Angeles:20250913T150000
DTSTAMP:20260419T074834
CREATED:20250928T212626Z
LAST-MODIFIED:20250928T212626Z
UID:8921-1757757600-1757775600@www.lasvegashawaiiancivicclub.net
SUMMARY:HoloHolo Market
DESCRIPTION:
URL:https://www.lasvegashawaiiancivicclub.net/events/holoholo-market/
LOCATION:Ferguson’s Downtown\, 1028 Fremont Street\, Las Vegas\, NV\, 89101\, United States
END:VEVENT
BEGIN:VEVENT
DTSTART;TZID=America/Los_Angeles:20250915T190000
DTEND;TZID=America/Los_Angeles:20250915T203000
DTSTAMP:20260419T074834
CREATED:20250826T055455Z
LAST-MODIFIED:20250826T055455Z
UID:8743-1757962800-1757968200@www.lasvegashawaiiancivicclub.net
SUMMARY:General Membership Meeting (Hybrid)
DESCRIPTION:Paina Potluck begins at 6:15pm
URL:https://www.lasvegashawaiiancivicclub.net/events/general-membership-meeting-hybrid-8/
END:VEVENT
BEGIN:VEVENT
DTSTART;VALUE=DATE:20250920
DTEND;VALUE=DATE:20250921
DTSTAMP:20260419T074834
CREATED:20250928T223143Z
LAST-MODIFIED:20250928T223143Z
UID:8941-1758326400-1758412799@www.lasvegashawaiiancivicclub.net
SUMMARY:Abigail Kawānanakoa Kupuna Kako'o Scholarship Application Period Open
DESCRIPTION:
URL:https://www.lasvegashawaiiancivicclub.net/events/abigail-kawananakoa-kupuna-kakoo-scholarship-application-period-open/
END:VEVENT
BEGIN:VEVENT
DTSTART;TZID=America/Los_Angeles:20250930T100000
DTEND;TZID=America/Los_Angeles:20250930T130000
DTSTAMP:20260419T074834
CREATED:20250928T212746Z
LAST-MODIFIED:20250928T212746Z
UID:8923-1759226400-1759237200@www.lasvegashawaiiancivicclub.net
SUMMARY:Health Event - Vegas Events And More
DESCRIPTION:
URL:https://www.lasvegashawaiiancivicclub.net/events/health-event-vegas-events-and-more/
LOCATION:Suncoast Hotel\, 9090 Alta Drive\, Las Vegas\, NV\, 89145\, United States
END:VEVENT
END:VCALENDAR