BEGIN:VCALENDAR
VERSION:2.0
PRODID:-//Las Vegas Hawaiian Civic Club - ECPv6.15.20//NONSGML v1.0//EN
CALSCALE:GREGORIAN
METHOD:PUBLISH
X-WR-CALNAME:Las Vegas Hawaiian Civic Club
X-ORIGINAL-URL:https://www.lasvegashawaiiancivicclub.net
X-WR-CALDESC:Events for Las Vegas Hawaiian Civic Club
REFRESH-INTERVAL;VALUE=DURATION:PT1H
X-Robots-Tag:noindex
X-PUBLISHED-TTL:PT1H
BEGIN:VTIMEZONE
TZID:America/Los_Angeles
BEGIN:DAYLIGHT
TZOFFSETFROM:-0800
TZOFFSETTO:-0700
TZNAME:PDT
DTSTART:20240310T100000
END:DAYLIGHT
BEGIN:STANDARD
TZOFFSETFROM:-0700
TZOFFSETTO:-0800
TZNAME:PST
DTSTART:20241103T090000
END:STANDARD
BEGIN:DAYLIGHT
TZOFFSETFROM:-0800
TZOFFSETTO:-0700
TZNAME:PDT
DTSTART:20250309T100000
END:DAYLIGHT
BEGIN:STANDARD
TZOFFSETFROM:-0700
TZOFFSETTO:-0800
TZNAME:PST
DTSTART:20251102T090000
END:STANDARD
BEGIN:DAYLIGHT
TZOFFSETFROM:-0800
TZOFFSETTO:-0700
TZNAME:PDT
DTSTART:20260308T100000
END:DAYLIGHT
BEGIN:STANDARD
TZOFFSETFROM:-0700
TZOFFSETTO:-0800
TZNAME:PST
DTSTART:20261101T090000
END:STANDARD
END:VTIMEZONE
BEGIN:VEVENT
DTSTART;TZID=America/Los_Angeles:20251011T100000
DTEND;TZID=America/Los_Angeles:20251011T150000
DTSTAMP:20260419T062305
CREATED:20250928T212843Z
LAST-MODIFIED:20250928T212843Z
UID:8925-1760176800-1760194800@www.lasvegashawaiiancivicclub.net
SUMMARY:HoloHolo Market
DESCRIPTION:
URL:https://www.lasvegashawaiiancivicclub.net/events/holoholo-market-2/
LOCATION:Ferguson’s Downtown\, 1028 Fremont Street\, Las Vegas\, NV\, 89101\, United States
END:VEVENT
BEGIN:VEVENT
DTSTART;VALUE=DATE:20251013
DTEND;VALUE=DATE:20251014
DTSTAMP:20260419T062305
CREATED:20250719T231849Z
LAST-MODIFIED:20250719T231849Z
UID:8692-1760313600-1760399999@www.lasvegashawaiiancivicclub.net
SUMMARY:Columbus Day
DESCRIPTION:
URL:https://www.lasvegashawaiiancivicclub.net/events/columbus-day/
END:VEVENT
BEGIN:VEVENT
DTSTART;TZID=America/Los_Angeles:20251013T190000
DTEND;TZID=America/Los_Angeles:20251013T203000
DTSTAMP:20260419T062305
CREATED:20250826T055855Z
LAST-MODIFIED:20250826T055855Z
UID:8745-1760382000-1760387400@www.lasvegashawaiiancivicclub.net
SUMMARY:Board Meeting (Virtual)
DESCRIPTION:
URL:https://www.lasvegashawaiiancivicclub.net/events/board-meeting-virtual-7/
END:VEVENT
BEGIN:VEVENT
DTSTART;VALUE=DATE:20251014
DTEND;VALUE=DATE:20251015
DTSTAMP:20260419T062305
CREATED:20250928T221401Z
LAST-MODIFIED:20250928T221401Z
UID:8931-1760400000-1760486399@www.lasvegashawaiiancivicclub.net
SUMMARY:LVHCC 2025-2026 Founder's Scholarship Application Period Opens
DESCRIPTION:
URL:https://www.lasvegashawaiiancivicclub.net/events/lvhcc-2025-2026-founders-scholarship-application-period-opens/
END:VEVENT
BEGIN:VEVENT
DTSTART;TZID=America/Los_Angeles:20251020T190000
DTEND;TZID=America/Los_Angeles:20251020T203000
DTSTAMP:20260419T062305
CREATED:20250719T231550Z
LAST-MODIFIED:20250719T231550Z
UID:8688-1760986800-1760992200@www.lasvegashawaiiancivicclub.net
SUMMARY:General Membership Meeting (Hybrid)
DESCRIPTION:Paina Potluck starts at 6:15pm
URL:https://www.lasvegashawaiiancivicclub.net/events/general-membership-meeting-hybrid-7/
END:VEVENT
BEGIN:VEVENT
DTSTART;VALUE=DATE:20251026
DTEND;VALUE=DATE:20251103
DTSTAMP:20260419T062305
CREATED:20250719T231751Z
LAST-MODIFIED:20250719T231751Z
UID:8690-1761436800-1762127999@www.lasvegashawaiiancivicclub.net
SUMMARY:66th Annual Convention of the Association of Hawaiian Civic Clubs
DESCRIPTION:
URL:https://www.lasvegashawaiiancivicclub.net/events/66th-annual-convention-of-the-association-of-hawaiian-civic-clubs/
END:VEVENT
END:VCALENDAR