BEGIN:VCALENDAR
VERSION:2.0
PRODID:-//Las Vegas Hawaiian Civic Club - ECPv6.15.20//NONSGML v1.0//EN
CALSCALE:GREGORIAN
METHOD:PUBLISH
X-ORIGINAL-URL:https://www.lasvegashawaiiancivicclub.net
X-WR-CALDESC:Events for Las Vegas Hawaiian Civic Club
REFRESH-INTERVAL;VALUE=DURATION:PT1H
X-Robots-Tag:noindex
X-PUBLISHED-TTL:PT1H
BEGIN:VTIMEZONE
TZID:America/Los_Angeles
BEGIN:DAYLIGHT
TZOFFSETFROM:-0800
TZOFFSETTO:-0700
TZNAME:PDT
DTSTART:20240310T100000
END:DAYLIGHT
BEGIN:STANDARD
TZOFFSETFROM:-0700
TZOFFSETTO:-0800
TZNAME:PST
DTSTART:20241103T090000
END:STANDARD
BEGIN:DAYLIGHT
TZOFFSETFROM:-0800
TZOFFSETTO:-0700
TZNAME:PDT
DTSTART:20250309T100000
END:DAYLIGHT
BEGIN:STANDARD
TZOFFSETFROM:-0700
TZOFFSETTO:-0800
TZNAME:PST
DTSTART:20251102T090000
END:STANDARD
BEGIN:DAYLIGHT
TZOFFSETFROM:-0800
TZOFFSETTO:-0700
TZNAME:PDT
DTSTART:20260308T100000
END:DAYLIGHT
BEGIN:STANDARD
TZOFFSETFROM:-0700
TZOFFSETTO:-0800
TZNAME:PST
DTSTART:20261101T090000
END:STANDARD
END:VTIMEZONE
BEGIN:VEVENT
DTSTART;VALUE=DATE:20251026
DTEND;VALUE=DATE:20251103
DTSTAMP:20260419T185745
CREATED:20250719T231751Z
LAST-MODIFIED:20250719T231751Z
UID:8690-1761436800-1762127999@www.lasvegashawaiiancivicclub.net
SUMMARY:66th Annual Convention of the Association of Hawaiian Civic Clubs
DESCRIPTION:
URL:https://www.lasvegashawaiiancivicclub.net/events/66th-annual-convention-of-the-association-of-hawaiian-civic-clubs/
END:VEVENT
BEGIN:VEVENT
DTSTART;VALUE=DATE:20251104
DTEND;VALUE=DATE:20251105
DTSTAMP:20260419T185745
CREATED:20250928T212958Z
LAST-MODIFIED:20250928T212958Z
UID:8927-1762214400-1762300799@www.lasvegashawaiiancivicclub.net
SUMMARY:Election Day (Mid-Terms)
DESCRIPTION:
URL:https://www.lasvegashawaiiancivicclub.net/events/election-day-mid-terms/
END:VEVENT
BEGIN:VEVENT
DTSTART;TZID=America/Los_Angeles:20251110T190000
DTEND;TZID=America/Los_Angeles:20251110T203000
DTSTAMP:20260419T185745
CREATED:20250719T232140Z
LAST-MODIFIED:20250719T232140Z
UID:8700-1762801200-1762806600@www.lasvegashawaiiancivicclub.net
SUMMARY:Board Meeting (Virtual)
DESCRIPTION:
URL:https://www.lasvegashawaiiancivicclub.net/events/board-meeting-virtual-4/
END:VEVENT
BEGIN:VEVENT
DTSTART;VALUE=DATE:20251111
DTEND;VALUE=DATE:20251112
DTSTAMP:20260419T185745
CREATED:20250719T231935Z
LAST-MODIFIED:20250719T231935Z
UID:8694-1762819200-1762905599@www.lasvegashawaiiancivicclub.net
SUMMARY:Veteran's Day
DESCRIPTION:
URL:https://www.lasvegashawaiiancivicclub.net/events/veterans-day/
END:VEVENT
BEGIN:VEVENT
DTSTART;TZID=America/Los_Angeles:20251117T190000
DTEND;TZID=America/Los_Angeles:20251117T203000
DTSTAMP:20260419T185745
CREATED:20250719T232231Z
LAST-MODIFIED:20250719T232231Z
UID:8702-1763406000-1763411400@www.lasvegashawaiiancivicclub.net
SUMMARY:Membership Meeting (Hybrid)
DESCRIPTION:Paina Potluck begins at 6:15pm
URL:https://www.lasvegashawaiiancivicclub.net/events/membership-meeting-hybrid-2/
END:VEVENT
BEGIN:VEVENT
DTSTART;VALUE=DATE:20251120
DTEND;VALUE=DATE:20251121
DTSTAMP:20260419T185745
CREATED:20250928T223245Z
LAST-MODIFIED:20250928T223245Z
UID:8943-1763596800-1763683199@www.lasvegashawaiiancivicclub.net
SUMMARY:Abigail Kawānanakoa Kupuna Kako'o Scholarship Application Period Closes
DESCRIPTION:
URL:https://www.lasvegashawaiiancivicclub.net/events/abigail-kawananakoa-kupuna-kakoo-scholarship-application-period-closes/
END:VEVENT
BEGIN:VEVENT
DTSTART;TZID=America/Los_Angeles:20251121T170000
DTEND;TZID=America/Los_Angeles:20251121T220000
DTSTAMP:20260419T185745
CREATED:20250719T231122Z
LAST-MODIFIED:20250719T231122Z
UID:8680-1763744400-1763762400@www.lasvegashawaiiancivicclub.net
SUMMARY:Univ of Hawai'i versus UNLV
DESCRIPTION:
URL:https://www.lasvegashawaiiancivicclub.net/events/univ-of-hawaii-versus-unlv/
LOCATION:Allegiant Stadium\, 333 Al Davis Way\, Las Vegas\, NV\, 89118\, United States
END:VEVENT
BEGIN:VEVENT
DTSTART;TZID=America/Los_Angeles:20251126T070000
DTEND;TZID=America/Los_Angeles:20251126T220000
DTSTAMP:20260419T185745
CREATED:20250928T213117Z
LAST-MODIFIED:20251123T225849Z
UID:8929-1764140400-1764194400@www.lasvegashawaiiancivicclub.net
SUMMARY:3rd Annual "9th Island Knight" Hockey Game
DESCRIPTION:Ticket link is now closed.
URL:https://www.lasvegashawaiiancivicclub.net/events/3rd-annual-9th-island-knight-hockey-game/
LOCATION:T-Mobile Arena\, 3780 South Las Vegas Blvd\, Las Vegas\, NV\, 89109\, United States
END:VEVENT
BEGIN:VEVENT
DTSTART;VALUE=DATE:20251127
DTEND;VALUE=DATE:20251128
DTSTAMP:20260419T185745
CREATED:20250719T232012Z
LAST-MODIFIED:20250719T232012Z
UID:8696-1764201600-1764287999@www.lasvegashawaiiancivicclub.net
SUMMARY:Thanksgiving Day
DESCRIPTION:
URL:https://www.lasvegashawaiiancivicclub.net/events/thanksgiving-day/
END:VEVENT
BEGIN:VEVENT
DTSTART;VALUE=DATE:20251128
DTEND;VALUE=DATE:20251129
DTSTAMP:20260419T185745
CREATED:20251123T224734Z
LAST-MODIFIED:20251123T224734Z
UID:9069-1764288000-1764374399@www.lasvegashawaiiancivicclub.net
SUMMARY:Lā Kūʻokoʻa (Independence Day)
DESCRIPTION:
URL:https://www.lasvegashawaiiancivicclub.net/events/la-ku%ca%bboko%ca%bba-independence-day/
END:VEVENT
END:VCALENDAR